BEGIN:VCALENDAR
VERSION:2.0
PRODID:icalendar-ruby
CALSCALE:GREGORIAN
METHOD:PUBLISH
BEGIN:VEVENT
DTSTAMP:20260422T000026Z
UID:5-398817@firmfoundation213.tithelysetup2.com
DTSTART:20260816T170000Z
DTEND:20260816T180000Z
CLASS:PUBLIC
CREATED:20260416T092220
DESCRIPTION:Sunday Worship
LAST-MODIFIED:20260416T092220
LOCATION:
SUMMARY:Sunday Worship
URL;VALUE=URI:https://firmfoundation213.tithelysetup2.com/events/sunday-wor
 ship/2026-08-16
END:VEVENT
END:VCALENDAR
